BEGIN:VCALENDAR
VERSION:2.0
PRODID:-//PSM Winogrady - ECPv5.0.0//NONSGML v1.0//EN
CALSCALE:GREGORIAN
METHOD:PUBLISH
X-WR-CALNAME:PSM Winogrady
X-ORIGINAL-URL:https://psmwinogrady.pl
X-WR-CALDESC:Events for PSM Winogrady
BEGIN:VTIMEZONE
TZID:Europe/Warsaw
BEGIN:DAYLIGHT
TZOFFSETFROM:+0100
TZOFFSETTO:+0200
TZNAME:CEST
DTSTART:20260329T010000
END:DAYLIGHT
BEGIN:STANDARD
TZOFFSETFROM:+0200
TZOFFSETTO:+0100
TZNAME:CET
DTSTART:20261025T010000
END:STANDARD
END:VTIMEZONE
BEGIN:VEVENT
DTSTART;TZID=Europe/Warsaw:20260509T190000
DTEND;TZID=Europe/Warsaw:20260509T200000
DTSTAMP:20260420T114402
CREATED:20260420T083411Z
LAST-MODIFIED:20260420T083412Z
UID:42147-1778353200-1778356800@psmwinogrady.pl
SUMMARY:Biały kruk i dwa anioły - Villas / German / Demarczyk - koncert Marty Grabowskiej Pod Lipami
DESCRIPTION: BIAŁY KRUK I DWA ANIOŁY Villas – German – Demarczyk \nZapraszamy na niezwykły koncert – artystyczny hołd dla trzech legend polskiej piosenki:Violetta Villas – Biały Kruk\,Anna German – Biały Anioł\,Ewa Demarczyk – Czarny Anioł polskiej piosenki.\n\nTo autorski program Marty Grabowskiej – wokalistki o wyjątkowej\, poruszającej barwie głosu. Artystka w niecodzienny sposób zestawia trzy wybitne osobowości\, ich losy\, wrażliwość i ponadczasowe utwory\, tworząc emocjonalną opowieść sceniczną.\nPodczas wieczoru usłyszycie znane i ukochane piosenki w przepięknych aranżacjach fortepianowych autorstwa Jacek Skowroński\, przeplatane krótkimi opowieściami o życiu i twórczości artystek. Podczas koncertu wybrzmią\, m.in. List do matki\, Nie ma miłości bez zazdrości\, Tańczące Eurydyki\, Człowieczy los\, Tomaszów i wiele innych.Nastrojowa scenografia – ledowe świece\, tło fotograficzne\, symboliczne pióra – stworzy przestrzeń pełną wzruszeń\, zadumy i piękna.\n\nBilety w cenie 55 zł możecie nabyć w biurze Osiedlowego Domu Kultury “Pod Lipami”.\nRezerwacje pod nr tel. 61 630 33 47\n\n\nWięcej o wokalistce można przeczytać na stronie martagrabowska.pl oraz na fb https://www.facebook.com/share/1ZtVxxqNwu/ \nPokaż mniej\n\n
URL:https://psmwinogrady.pl/wydarzenie/bialy-kruk-i-dwa-anioly-villas-german-demarczyk-koncert-marty-grabowskiej-pod-lipami/
LOCATION:Osiedlowy Dom Kultury “Pod Lipami”\, Os. Pod Lipami 108A\, Poznań\, Wielkopolskie\, Polska
CATEGORIES:Scena Pod Lipami
ATTACH;FMTTYPE=image/png:https://psmwinogrady.pl/wp-content/uploads/2026/04/9.05-Marta-Grabowska-koncert.png
ORGANIZER;CN="Osiedlowy%20Dom%20Kultury%20%22Pod%20Lipami%22":MAILTO:odkpodkpodlipami@psmwinogrady.pl
END:VEVENT
END:VCALENDAR