BEGIN:VCALENDAR
VERSION:2.0
PRODID:-//PSM Winogrady - ECPv5.0.0//NONSGML v1.0//EN
CALSCALE:GREGORIAN
METHOD:PUBLISH
X-WR-CALNAME:PSM Winogrady
X-ORIGINAL-URL:https://psmwinogrady.pl
X-WR-CALDESC:Events for PSM Winogrady
BEGIN:VTIMEZONE
TZID:Europe/Warsaw
BEGIN:DAYLIGHT
TZOFFSETFROM:+0100
TZOFFSETTO:+0200
TZNAME:CEST
DTSTART:20250330T010000
END:DAYLIGHT
BEGIN:STANDARD
TZOFFSETFROM:+0200
TZOFFSETTO:+0100
TZNAME:CET
DTSTART:20251026T010000
END:STANDARD
END:VTIMEZONE
BEGIN:VEVENT
DTSTART;TZID=Europe/Warsaw:20250307T170000
DTEND;TZID=Europe/Warsaw:20250307T180000
DTSTAMP:20260422T212530
CREATED:20250225T143308Z
LAST-MODIFIED:20250226T121419Z
UID:34958-1741366800-1741370400@psmwinogrady.pl
SUMMARY:Dzień Kobiet
DESCRIPTION:W dniu 7 marca o godz. 17:00 w ODK “Wiktoria” odbędzie się uroczystość z okazji Dnia Kobiet. \n
URL:https://psmwinogrady.pl/wydarzenie/dzien-kobiet/
ATTACH;FMTTYPE=image/png:https://psmwinogrady.pl/wp-content/uploads/2025/02/8-marca-1.png
END:VEVENT
END:VCALENDAR