BEGIN:VCALENDAR
VERSION:2.0
PRODID:-//PSM Winogrady - ECPv5.0.0//NONSGML v1.0//EN
CALSCALE:GREGORIAN
METHOD:PUBLISH
X-WR-CALNAME:PSM Winogrady
X-ORIGINAL-URL:https://psmwinogrady.pl
X-WR-CALDESC:Events for PSM Winogrady
BEGIN:VTIMEZONE
TZID:Europe/Warsaw
BEGIN:DAYLIGHT
TZOFFSETFROM:+0100
TZOFFSETTO:+0200
TZNAME:CEST
DTSTART:20250330T010000
END:DAYLIGHT
BEGIN:STANDARD
TZOFFSETFROM:+0200
TZOFFSETTO:+0100
TZNAME:CET
DTSTART:20251026T010000
END:STANDARD
END:VTIMEZONE
BEGIN:VEVENT
DTSTART;TZID=Europe/Warsaw:20250308T180000
DTEND;TZID=Europe/Warsaw:20250308T193000
DTSTAMP:20260426T021509
CREATED:20250205T195831Z
LAST-MODIFIED:20250205T195832Z
UID:34614-1741456800-1741462200@psmwinogrady.pl
SUMMARY:“Hrabia wrócił” program satyryczny Krzysztofa Daukszewicza
DESCRIPTION: \nkabaret“Hrabia wrócił” jest kolejną odsłoną programu satyrycznego Krzysztofa Daukszewicza. Po “Nareszcie w Dudapeszcie” i “Zjedz kawiorek” to najbardziej okraszony dowcipem i lekkością komentarz do bieżących wydarzeń i otaczającej rzeczywistości. \nZaśpiewajmy wspólnie z artystą piosenki ODLEGŁOŚĆ\, MASECZKA\, MYCIE RĄK\, 80 RADIOWOZÓW NA ULICY MICKIEWICZA czy SZUMIDŁO KOŁO NAS. \nKażdy pokaz spektaklu to tak naprawdę nowy program artystyczny prezentowany wspólnie z pianistą Mieczysławem Grochowskim. \nZaproś swoją ukochaną na pełen humoru i inteligentnego dowcipu Dzień Kobiet Pod Lipami! \nBilety: 60zł \nRezerwacji biletów możecie dokonać w biurze Osiedlowego Domu Kultury Pod Lipami lub pod nr tel. (0)61 630 33 47! \n
URL:https://psmwinogrady.pl/wydarzenie/hrabia-wrocil-program-satyryczny-krzysztofa-daukszewicza/
LOCATION:Osiedlowy Dom Kultury “Pod Lipami”\, Os. Pod Lipami 108A\, Poznań\, Wielkopolskie\, Polska
CATEGORIES:Scena Pod Lipami
ATTACH;FMTTYPE=image/png:https://psmwinogrady.pl/wp-content/uploads/2025/02/hrabiawrocilKD.png
ORGANIZER;CN="Osiedlowy%20Dom%20Kultury%20%22Pod%20Lipami%22":MAILTO:odkpodkpodlipami@psmwinogrady.pl
END:VEVENT
END:VCALENDAR