BEGIN:VCALENDAR
VERSION:2.0
PRODID:-//PSM Winogrady - ECPv5.0.0//NONSGML v1.0//EN
CALSCALE:GREGORIAN
METHOD:PUBLISH
X-WR-CALNAME:PSM Winogrady
X-ORIGINAL-URL:https://psmwinogrady.pl
X-WR-CALDESC:Events for PSM Winogrady
BEGIN:VTIMEZONE
TZID:Europe/Warsaw
BEGIN:DAYLIGHT
TZOFFSETFROM:+0100
TZOFFSETTO:+0200
TZNAME:CEST
DTSTART:20220327T010000
END:DAYLIGHT
BEGIN:STANDARD
TZOFFSETFROM:+0200
TZOFFSETTO:+0100
TZNAME:CET
DTSTART:20221030T010000
END:STANDARD
END:VTIMEZONE
BEGIN:VEVENT
DTSTART;TZID=Europe/Warsaw:20221020T070000
DTEND;TZID=Europe/Warsaw:20221020T163000
DTSTAMP:20260420T150950
CREATED:20221014T124911Z
LAST-MODIFIED:20221014T124911Z
UID:20941-1666249200-1666283400@psmwinogrady.pl
SUMMARY:II Wycieczka na grzyby
DESCRIPTION:W dniu 20.10.2022 odbędzie się druga wycieczka na grzyby do Klempicza w Puszczy Noteckiej. \n
URL:https://psmwinogrady.pl/wydarzenie/ii-wycieczka-na-grzyby-2/
ATTACH;FMTTYPE=image/png:https://psmwinogrady.pl/wp-content/uploads/2022/10/grzyby2.png
END:VEVENT
END:VCALENDAR