BEGIN:VCALENDAR
VERSION:2.0
PRODID:-//PSM Winogrady - ECPv5.0.0//NONSGML v1.0//EN
CALSCALE:GREGORIAN
METHOD:PUBLISH
X-WR-CALNAME:PSM Winogrady
X-ORIGINAL-URL:https://psmwinogrady.pl
X-WR-CALDESC:Events for PSM Winogrady
BEGIN:VTIMEZONE
TZID:Europe/Warsaw
BEGIN:DAYLIGHT
TZOFFSETFROM:+0100
TZOFFSETTO:+0200
TZNAME:CEST
DTSTART:20250330T010000
END:DAYLIGHT
BEGIN:STANDARD
TZOFFSETFROM:+0200
TZOFFSETTO:+0100
TZNAME:CET
DTSTART:20251026T010000
END:STANDARD
END:VTIMEZONE
BEGIN:VEVENT
DTSTART;TZID=Europe/Warsaw:20250110T190000
DTEND;TZID=Europe/Warsaw:20250110T200000
DTSTAMP:20260424T163446
CREATED:20250104T154148Z
LAST-MODIFIED:20250104T154148Z
UID:33946-1736535600-1736539200@psmwinogrady.pl
SUMMARY:KARNAWAŁOWY ROMANS Koncert Noworoczny
DESCRIPTION:
URL:https://psmwinogrady.pl/wydarzenie/karnawalowy-romans-koncert-noworoczny/
LOCATION:Osiedlowy Dom Kultury “Orbita”\, os. Kosmonautów paw. 118\, Poznań
ATTACH;FMTTYPE=image/jpeg:https://psmwinogrady.pl/wp-content/uploads/2025/01/Romans-ODK-Orbita-plakat-jpg.jpg
END:VEVENT
END:VCALENDAR