BEGIN:VCALENDAR
VERSION:2.0
PRODID:-//PSM Winogrady - ECPv5.0.0//NONSGML v1.0//EN
CALSCALE:GREGORIAN
METHOD:PUBLISH
X-WR-CALNAME:PSM Winogrady
X-ORIGINAL-URL:https://psmwinogrady.pl
X-WR-CALDESC:Events for PSM Winogrady
BEGIN:VTIMEZONE
TZID:Europe/Warsaw
BEGIN:DAYLIGHT
TZOFFSETFROM:+0100
TZOFFSETTO:+0200
TZNAME:CEST
DTSTART:20260329T010000
END:DAYLIGHT
BEGIN:STANDARD
TZOFFSETFROM:+0200
TZOFFSETTO:+0100
TZNAME:CET
DTSTART:20261025T010000
END:STANDARD
END:VTIMEZONE
BEGIN:VEVENT
DTSTART;TZID=Europe/Warsaw:20260514T180000
DTEND;TZID=Europe/Warsaw:20260514T193000
DTSTAMP:20260420T124323
CREATED:20260420T092559Z
LAST-MODIFIED:20260420T092559Z
UID:42173-1778781600-1778787000@psmwinogrady.pl
SUMMARY:Klub Podróżnika Pod Lipami - Pireneje\, Dolomity i Tatry - Tomasz Kaczmarowski
DESCRIPTION:Osiedlowy Dom Kultury “Pod Lipami” zapraszam na kolejne spotkanie z cyklu Klub Podróżnika.\n\nOto kilka słów od naszego gościa:\nJestem wędrowcem zakochanym w naturze. Najpiękniej tam\, gdzie nie ma ludzi… Odkrywam\, przemierzam\, fotografuję i filmuję takie „diamenty” świata…\nZapraszam na spotkanie i mój film z samotnych wędrówek w Dolomitach\, w Pirenejach oraz w Tatrach. Jesteś ciekawy co to jest SILENT HIKING\, co to za przygoda\, która zaczyna się na długo zanim wyruszysz na szlak\, jak się przygotować…? A może po prostu chcesz o tym posłuchać i porozmawiać…?\nZapraszam Cię serdecznie.\nWstęp darmowy!\n\nMiejsca możecie rezerwować pod nr tel. 61 630 33 47 lub bezpośrednio w biurze Osiedlowego Domu Kultury “Pod Lipami”.\n
URL:https://psmwinogrady.pl/wydarzenie/klub-podroznika-pod-lipami-pireneje-dolomity-i-tatry-tomasz-kaczmarowski/
LOCATION:Osiedlowy Dom Kultury “Pod Lipami”\, Os. Pod Lipami 108A\, Poznań\, Wielkopolskie\, Polska
CATEGORIES:Klub Podróżnika
ATTACH;FMTTYPE=image/png:https://psmwinogrady.pl/wp-content/uploads/2026/04/14.05-Klub-Podróżnika.png
END:VEVENT
END:VCALENDAR