BEGIN:VCALENDAR
VERSION:2.0
PRODID:-//PSM Winogrady - ECPv5.0.0//NONSGML v1.0//EN
CALSCALE:GREGORIAN
METHOD:PUBLISH
X-WR-CALNAME:PSM Winogrady
X-ORIGINAL-URL:https://psmwinogrady.pl
X-WR-CALDESC:Events for PSM Winogrady
BEGIN:VTIMEZONE
TZID:Europe/Warsaw
BEGIN:DAYLIGHT
TZOFFSETFROM:+0100
TZOFFSETTO:+0200
TZNAME:CEST
DTSTART:20220327T010000
END:DAYLIGHT
BEGIN:STANDARD
TZOFFSETFROM:+0200
TZOFFSETTO:+0100
TZNAME:CET
DTSTART:20221030T010000
END:STANDARD
END:VTIMEZONE
BEGIN:VEVENT
DTSTART;TZID=Europe/Warsaw:20221014T190000
DTEND;TZID=Europe/Warsaw:20221014T203000
DTSTAMP:20260420T133900
CREATED:20221010T075610Z
LAST-MODIFIED:20221010T075647Z
UID:20729-1665774000-1665779400@psmwinogrady.pl
SUMMARY:KONCERT OPERETKOWY W WYKONANIU SOLISTÓW SCEN POZNAŃSKICH
DESCRIPTION: \n
URL:https://psmwinogrady.pl/wydarzenie/koncert-operetkowy-w-wykonaniu-solistow-scen-poznanskich/
LOCATION:Osiedlowy Dom Kultury “Bajka”
ORGANIZER;CN="Osiedlowy%20Dom%20Kultury%20%22Bajka%22":MAILTO:odkbajka@psmwinogrady.pl
END:VEVENT
END:VCALENDAR