BEGIN:VCALENDAR
VERSION:2.0
PRODID:-//PSM Winogrady - ECPv5.0.0//NONSGML v1.0//EN
CALSCALE:GREGORIAN
METHOD:PUBLISH
X-WR-CALNAME:PSM Winogrady
X-ORIGINAL-URL:https://psmwinogrady.pl
X-WR-CALDESC:Events for PSM Winogrady
BEGIN:VTIMEZONE
TZID:Europe/Warsaw
BEGIN:DAYLIGHT
TZOFFSETFROM:+0100
TZOFFSETTO:+0200
TZNAME:CEST
DTSTART:20200329T010000
END:DAYLIGHT
BEGIN:STANDARD
TZOFFSETFROM:+0200
TZOFFSETTO:+0100
TZNAME:CET
DTSTART:20201025T010000
END:STANDARD
END:VTIMEZONE
BEGIN:VEVENT
DTSTART;TZID=Europe/Warsaw:20200727T120000
DTEND;TZID=Europe/Warsaw:20200727T130000
DTSTAMP:20260423T101138
CREATED:20200723T134624Z
LAST-MODIFIED:20200723T134624Z
UID:10758-1595851200-1595854800@psmwinogrady.pl
SUMMARY:Muzyką malowanie
DESCRIPTION:Wakacyjna karuzela sztuki dla dzieci a w niej – malujemy do muzyk i \n
URL:https://psmwinogrady.pl/wydarzenie/muzyka-malowanie/
END:VEVENT
END:VCALENDAR