BEGIN:VCALENDAR
VERSION:2.0
PRODID:-//PSM Winogrady - ECPv5.0.0//NONSGML v1.0//EN
CALSCALE:GREGORIAN
METHOD:PUBLISH
X-WR-CALNAME:PSM Winogrady
X-ORIGINAL-URL:https://psmwinogrady.pl
X-WR-CALDESC:Events for PSM Winogrady
BEGIN:VTIMEZONE
TZID:Europe/Warsaw
BEGIN:DAYLIGHT
TZOFFSETFROM:+0100
TZOFFSETTO:+0200
TZNAME:CEST
DTSTART:20260329T010000
END:DAYLIGHT
BEGIN:STANDARD
TZOFFSETFROM:+0200
TZOFFSETTO:+0100
TZNAME:CET
DTSTART:20261025T010000
END:STANDARD
END:VTIMEZONE
BEGIN:VEVENT
DTSTART;TZID=Europe/Warsaw:20260516T093000
DTEND;TZID=Europe/Warsaw:20260516T170000
DTSTAMP:20260420T211236
CREATED:20260420T180730Z
LAST-MODIFIED:20260420T182211Z
UID:42258-1778923800-1778950800@psmwinogrady.pl
SUMMARY:ODK "Pod Lipami" -Mistrzostwa w układaniu kostki Rubika – wstęp wolny
DESCRIPTION:Zapraszamy na wyjątkowe zawody w układaniu kostki Rubika\, które odbędą się 16 maja 2026 roku w Osiedlowy Dom Kultury “Pod Lipami”. Wydarzenie skierowane jest zarówno do początkujących\, jak i zaawansowanych miłośników układania kostki Rubika. \nPodczas wydarzenia zobaczyć będzie można mistrza Polski w układaniu kostki Rubika bez patrzenia i czołowych zawodników w konkurencjach 3×3 jedna ręką\, 4x4x4 oraz Clock. \nStart godzina 9:30 \nWięcej informacji pod nr telefonu 600 199 727 \nZapraszamy! \n
URL:https://psmwinogrady.pl/wydarzenie/odk-pod-lipami-mistrzostwa-w-ukladaniu-kostki-rubika-wstep-wolny/
LOCATION:Osiedlowy Dom Kultury “Pod Lipami”\, Os. Pod Lipami 108A\, Poznań\, Wielkopolskie\, Polska
ATTACH;FMTTYPE=image/png:https://psmwinogrady.pl/wp-content/uploads/2026/04/16.05-Zawody-w-kostce-rubika-1.png
END:VEVENT
END:VCALENDAR