BEGIN:VCALENDAR
VERSION:2.0
PRODID:-//PSM Winogrady - ECPv5.0.0//NONSGML v1.0//EN
CALSCALE:GREGORIAN
METHOD:PUBLISH
X-WR-CALNAME:PSM Winogrady
X-ORIGINAL-URL:https://psmwinogrady.pl
X-WR-CALDESC:Events for PSM Winogrady
BEGIN:VTIMEZONE
TZID:Europe/Warsaw
BEGIN:DAYLIGHT
TZOFFSETFROM:+0100
TZOFFSETTO:+0200
TZNAME:CEST
DTSTART:20260329T010000
END:DAYLIGHT
BEGIN:STANDARD
TZOFFSETFROM:+0200
TZOFFSETTO:+0100
TZNAME:CET
DTSTART:20261025T010000
END:STANDARD
END:VTIMEZONE
BEGIN:VEVENT
DTSTART;TZID=Europe/Warsaw:20260526T180000
DTEND;TZID=Europe/Warsaw:20260526T210000
DTSTAMP:20260420T184553
CREATED:20260420T154100Z
LAST-MODIFIED:20260420T154100Z
UID:42249-1779818400-1779829200@psmwinogrady.pl
SUMMARY:ODK "Pod Lipami" - WIECZÓR GIER PLANSZOWYCH #14.
DESCRIPTION:Osiedlowy Dom Kultury „Pod Lipami” i Dzikie Opowieści już po raz czternasty zapraszają Was na Wieczór Gier Planszowych. Podczas kolejnej edycji wydarzenia będziecie mogli: \n– zagrać w udostępnione przez nas gry planszowe lub przynieść własne\, \n– porozmawiać o grach fabularnych (RPG) i co bardzo prawdopodobne\, zagrać sesję pokazową\, \n– nauczyć się podstawowych zasad MtG (Magic: The Gathering) i Disney Lorcana\, a także rozegrać swój pierwszy pojedynek w tych grach\, \n– poznać osoby o takich samych zainteresowaniach\, \nZapewniamy miejsce do grania\, napoje i miłą atmosferę! \nWstęp: 10 zł \nRezerwacja miejsc pod nr 61 630 33 47 \nZapraszamy \n
URL:https://psmwinogrady.pl/wydarzenie/odk-pod-lipami-wieczor-gier-planszowych-14/
LOCATION:Osiedlowy Dom Kultury “Pod Lipami”\, Os. Pod Lipami 108A\, Poznań\, Wielkopolskie\, Polska
CATEGORIES:Wieczór Gier Planszowych
ATTACH;FMTTYPE=image/png:https://psmwinogrady.pl/wp-content/uploads/2026/04/26.05-WGP-14.png
ORGANIZER;CN="Osiedlowy%20Dom%20Kultury%20%22Pod%20Lipami%22":MAILTO:odkpodkpodlipami@psmwinogrady.pl
END:VEVENT
END:VCALENDAR