BEGIN:VCALENDAR
VERSION:2.0
PRODID:-//PSM Winogrady - ECPv5.0.0//NONSGML v1.0//EN
CALSCALE:GREGORIAN
METHOD:PUBLISH
X-WR-CALNAME:PSM Winogrady
X-ORIGINAL-URL:https://psmwinogrady.pl
X-WR-CALDESC:Events for PSM Winogrady
BEGIN:VTIMEZONE
TZID:Europe/Warsaw
BEGIN:DAYLIGHT
TZOFFSETFROM:+0100
TZOFFSETTO:+0200
TZNAME:CEST
DTSTART:20220327T010000
END:DAYLIGHT
BEGIN:STANDARD
TZOFFSETFROM:+0200
TZOFFSETTO:+0100
TZNAME:CET
DTSTART:20221030T010000
END:STANDARD
END:VTIMEZONE
BEGIN:VEVENT
DTSTART;TZID=Europe/Warsaw:20221017T150000
DTEND;TZID=Europe/Warsaw:20221017T200000
DTSTAMP:20260420T133824
CREATED:20220908T153619Z
LAST-MODIFIED:20220908T153619Z
UID:20072-1666018800-1666036800@psmwinogrady.pl
SUMMARY:Poniedziałkowa wymiana książek
DESCRIPTION:Wymiana książek w naszej słonecznej biblioteczce w każdy poniedziałek od 15.00 do 20.00. \n
URL:https://psmwinogrady.pl/wydarzenie/poniedzialkowa-wymiana-ksiazek-3/
LOCATION:Osiedlowy Dom Kultury “Słońce”\, os. Przyjaźni paw. 120\, Poznań
END:VEVENT
END:VCALENDAR