BEGIN:VCALENDAR
VERSION:2.0
PRODID:-//PSM Winogrady - ECPv5.0.0//NONSGML v1.0//EN
CALSCALE:GREGORIAN
METHOD:PUBLISH
X-WR-CALNAME:PSM Winogrady
X-ORIGINAL-URL:https://psmwinogrady.pl
X-WR-CALDESC:Events for PSM Winogrady
BEGIN:VTIMEZONE
TZID:Europe/Warsaw
BEGIN:DAYLIGHT
TZOFFSETFROM:+0100
TZOFFSETTO:+0200
TZNAME:CEST
DTSTART:20200329T010000
END:DAYLIGHT
BEGIN:STANDARD
TZOFFSETFROM:+0200
TZOFFSETTO:+0100
TZNAME:CET
DTSTART:20201025T010000
END:STANDARD
END:VTIMEZONE
BEGIN:VEVENT
DTSTART;TZID=Europe/Warsaw:20200721T120000
DTEND;TZID=Europe/Warsaw:20200721T130000
DTSTAMP:20260423T100342
CREATED:20200717T103815Z
LAST-MODIFIED:20200717T104455Z
UID:10659-1595332800-1595336400@psmwinogrady.pl
SUMMARY:Warsztaty plastyczne dla dzieci- Bajkowe bajki
DESCRIPTION:Zapraszamy dzieci do ODK “Bajka” na warsztaty plastyczne “WAKACYJNA KARUZELA SZTUKI” na BAJKOWE BAJKI. Na zajęciach uczestnicy będą wykonywać bajkowe prace o tematyce przeczytanej bajki. \nIlość miejsc ograniczona. \n
URL:https://psmwinogrady.pl/wydarzenie/warsztaty-plastyczne-dla-dzieci-bajkowe-bajki/
LOCATION:Osiedlowy Dom Kultury “Bajka”
ORGANIZER;CN="Osiedlowy%20Dom%20Kultury%20%22Bajka%22":MAILTO:odkbajka@psmwinogrady.pl
END:VEVENT
END:VCALENDAR