BEGIN:VCALENDAR
VERSION:2.0
PRODID:-//PSM Winogrady - ECPv5.0.0//NONSGML v1.0//EN
CALSCALE:GREGORIAN
METHOD:PUBLISH
X-WR-CALNAME:PSM Winogrady
X-ORIGINAL-URL:https://psmwinogrady.pl
X-WR-CALDESC:Events for PSM Winogrady
BEGIN:VTIMEZONE
TZID:Europe/Warsaw
BEGIN:DAYLIGHT
TZOFFSETFROM:+0100
TZOFFSETTO:+0200
TZNAME:CEST
DTSTART:20230326T010000
END:DAYLIGHT
BEGIN:STANDARD
TZOFFSETFROM:+0200
TZOFFSETTO:+0100
TZNAME:CET
DTSTART:20231029T010000
END:STANDARD
END:VTIMEZONE
BEGIN:VEVENT
DTSTART;TZID=Europe/Warsaw:20230717T140000
DTEND;TZID=Europe/Warsaw:20230717T150000
DTSTAMP:20260420T091942
CREATED:20230705T140915Z
LAST-MODIFIED:20230705T140915Z
UID:25359-1689602400-1689606000@psmwinogrady.pl
SUMMARY:Warsztaty z robotyki w ODK Orbita
DESCRIPTION: \n
URL:https://psmwinogrady.pl/wydarzenie/warsztaty-z-robotyki-w-odk-orbita/
LOCATION:Osiedlowy Dom Kultury “Orbita”\, os. Kosmonautów paw. 118\, Poznań
END:VEVENT
END:VCALENDAR