BEGIN:VCALENDAR
VERSION:2.0
PRODID:-//PSM Winogrady - ECPv5.0.0//NONSGML v1.0//EN
CALSCALE:GREGORIAN
METHOD:PUBLISH
X-WR-CALNAME:PSM Winogrady
X-ORIGINAL-URL:https://psmwinogrady.pl
X-WR-CALDESC:Events for PSM Winogrady
BEGIN:VTIMEZONE
TZID:Europe/Warsaw
BEGIN:DAYLIGHT
TZOFFSETFROM:+0100
TZOFFSETTO:+0200
TZNAME:CEST
DTSTART:20220327T010000
END:DAYLIGHT
BEGIN:STANDARD
TZOFFSETFROM:+0200
TZOFFSETTO:+0100
TZNAME:CET
DTSTART:20221030T010000
END:STANDARD
END:VTIMEZONE
BEGIN:VEVENT
DTSTART;TZID=Europe/Warsaw:20221216T190000
DTEND;TZID=Europe/Warsaw:20221216T190000
DTSTAMP:20260420T080209
CREATED:20221103T150200Z
LAST-MODIFIED:20221103T150200Z
UID:21240-1671217200-1671217200@psmwinogrady.pl
SUMMARY:Wernisaż wystawy prac członków pracowni malarstwa
DESCRIPTION:Wstęp bezpłatny \n
URL:https://psmwinogrady.pl/wydarzenie/wernisaz-wystawy-prac-czlonkow-pracowni-malarstwa/
LOCATION:Osiedlowy Dom Kultury “Słońce”\, os. Przyjaźni paw. 120\, Poznań
END:VEVENT
END:VCALENDAR