BEGIN:VCALENDAR
VERSION:2.0
PRODID:-//PSM Winogrady - ECPv5.0.0//NONSGML v1.0//EN
CALSCALE:GREGORIAN
METHOD:PUBLISH
X-WR-CALNAME:PSM Winogrady
X-ORIGINAL-URL:https://psmwinogrady.pl
X-WR-CALDESC:Events for PSM Winogrady
BEGIN:VTIMEZONE
TZID:Europe/Warsaw
BEGIN:DAYLIGHT
TZOFFSETFROM:+0100
TZOFFSETTO:+0200
TZNAME:CEST
DTSTART:20200329T010000
END:DAYLIGHT
BEGIN:STANDARD
TZOFFSETFROM:+0200
TZOFFSETTO:+0100
TZNAME:CET
DTSTART:20201025T010000
END:STANDARD
END:VTIMEZONE
BEGIN:VEVENT
DTSTART;TZID=Europe/Warsaw:20200730T120000
DTEND;TZID=Europe/Warsaw:20200730T130000
DTSTAMP:20260423T095254
CREATED:20200728T072449Z
LAST-MODIFIED:20200730T072711Z
UID:11011-1596110400-1596114000@psmwinogrady.pl
SUMMARY:zajęcia plastyczne dla dzieci
DESCRIPTION:Zapraszamy na ostatnie już w lipcu zajęcia plastyczne dla dzieci. Zajęcia są darmowe i zaczynają się o godzinie 12:00. Tematem czwartkowych zajęć będzie recycling czyli zrobienie czegoś z niczego:) \n
URL:https://psmwinogrady.pl/wydarzenie/zajecia-plastyczne-dla-dzieci/
LOCATION:Osiedlowy Dom Kultury “Bajka”
ORGANIZER;CN="Osiedlowy%20Dom%20Kultury%20%22Bajka%22":MAILTO:odkbajka@psmwinogrady.pl
END:VEVENT
END:VCALENDAR